BEGIN:VCALENDAR
VERSION:2.0
PRODID:https://www.kufer.de/kuferweb / DE
METHOD:PUBLISH
CALSCALE:GREGORIAN
X-WR-TIMEZONE:Europe/Berlin
BEGIN:VTIMEZONE
TZID:Europe/Berlin
X-LIC-LOCATION:Europe/Berlin
BEGIN:DAYLIGHT
TZOFFSETFROM:+0100
TZOFFSETTO:+0200
TZNAME:CEST
DTSTART:19700329T020000
RRULE:FREQ=YEARLY;INTERVAL=1;BYDAY=-1SU;BYMONTH=3
END:DAYLIGHT
BEGIN:STANDARD
TZOFFSETFROM:+0200
TZOFFSETTO:+0100
TZNAME:CET
DTSTART:19701025T030000
RRULE:FREQ=YEARLY;INTERVAL=1;BYDAY=-1SU;BYMONTH=10
END:STANDARD
END:VTIMEZONE
BEGIN:VEVENT
DTSTAMP:20260425T200822
DTSTART;TZID=Europe/Berlin:20260502T080000
DTEND;TZID=Europe/Berlin:20260502T130000
UID:261B056WI-20260502T080000@KVHS LKHARBURG
SUMMARY:Informationstechnisches Büromanagement (AP I + AP II) Prüfungsvorbereitung (261B056WI) 
LOCATION:KVHS Haus St.-Barbara-Weg 1; EDV-Raum, St.-Barbara-Weg 1, 21423 Winsen
END:VEVENT
BEGIN:VEVENT
DTSTAMP:20260425T200822
DTSTART;TZID=Europe/Berlin:20260509T080000
DTEND;TZID=Europe/Berlin:20260509T130000
UID:261B056WI-20260509T080000@KVHS LKHARBURG
SUMMARY:Informationstechnisches Büromanagement (AP I + AP II) Prüfungsvorbereitung (261B056WI) 
LOCATION:KVHS Haus St.-Barbara-Weg 1; EDV-Raum, St.-Barbara-Weg 1, 21423 Winsen
END:VEVENT
BEGIN:VEVENT
DTSTAMP:20260425T200822
DTSTART;TZID=Europe/Berlin:20260516T080000
DTEND;TZID=Europe/Berlin:20260516T130000
UID:261B056WI-20260516T080000@KVHS LKHARBURG
SUMMARY:Informationstechnisches Büromanagement (AP I + AP II) Prüfungsvorbereitung (261B056WI) 
LOCATION:KVHS Haus St.-Barbara-Weg 1; EDV-Raum, St.-Barbara-Weg 1, 21423 Winsen
END:VEVENT
BEGIN:VEVENT
DTSTAMP:20260425T200822
DTSTART;TZID=Europe/Berlin:20260523T080000
DTEND;TZID=Europe/Berlin:20260523T130000
UID:261B056WI-20260523T080000@KVHS LKHARBURG
SUMMARY:Informationstechnisches Büromanagement (AP I + AP II) Prüfungsvorbereitung (261B056WI) 
LOCATION:KVHS Haus St.-Barbara-Weg 1; EDV-Raum, St.-Barbara-Weg 1, 21423 Winsen
END:VEVENT
BEGIN:VEVENT
DTSTAMP:20260425T200822
DTSTART;TZID=Europe/Berlin:20260530T080000
DTEND;TZID=Europe/Berlin:20260530T130000
UID:261B056WI-20260530T080000@KVHS LKHARBURG
SUMMARY:Informationstechnisches Büromanagement (AP I + AP II) Prüfungsvorbereitung (261B056WI) 
LOCATION:KVHS Haus St.-Barbara-Weg 1; EDV-Raum, St.-Barbara-Weg 1, 21423 Winsen
END:VEVENT
BEGIN:VEVENT
DTSTAMP:20260425T200822
DTSTART;TZID=Europe/Berlin:20260606T080000
DTEND;TZID=Europe/Berlin:20260606T130000
UID:261B056WI-20260606T080000@KVHS LKHARBURG
SUMMARY:Informationstechnisches Büromanagement (AP I + AP II) Prüfungsvorbereitung (261B056WI) 
LOCATION:KVHS Haus St.-Barbara-Weg 1; EDV-Raum, St.-Barbara-Weg 1, 21423 Winsen
END:VEVENT
BEGIN:VEVENT
DTSTAMP:20260425T200822
DTSTART;TZID=Europe/Berlin:20260613T080000
DTEND;TZID=Europe/Berlin:20260613T130000
UID:261B056WI-20260613T080000@KVHS LKHARBURG
SUMMARY:Informationstechnisches Büromanagement (AP I + AP II) Prüfungsvorbereitung (261B056WI) 
LOCATION:KVHS Haus St.-Barbara-Weg 1; EDV-Raum, St.-Barbara-Weg 1, 21423 Winsen
END:VEVENT
BEGIN:VEVENT
DTSTAMP:20260425T200822
DTSTART;TZID=Europe/Berlin:20260620T080000
DTEND;TZID=Europe/Berlin:20260620T130000
UID:261B056WI-20260620T080000@KVHS LKHARBURG
SUMMARY:Informationstechnisches Büromanagement (AP I + AP II) Prüfungsvorbereitung (261B056WI) 
LOCATION:KVHS Haus St.-Barbara-Weg 1; EDV-Raum, St.-Barbara-Weg 1, 21423 Winsen
END:VEVENT
BEGIN:VEVENT
DTSTAMP:20260425T200822
DTSTART;TZID=Europe/Berlin:20260627T080000
DTEND;TZID=Europe/Berlin:20260627T130000
UID:261B056WI-20260627T080000@KVHS LKHARBURG
SUMMARY:Informationstechnisches Büromanagement (AP I + AP II) Prüfungsvorbereitung (261B056WI) 
LOCATION:KVHS Haus St.-Barbara-Weg 1; EDV-Raum, St.-Barbara-Weg 1, 21423 Winsen
END:VEVENT
END:VCALENDAR