BEGIN:VCALENDAR
VERSION:2.0
PRODID:https://www.kufer.de/kuferweb / DE
METHOD:PUBLISH
CALSCALE:GREGORIAN
X-WR-TIMEZONE:Europe/Berlin
BEGIN:VTIMEZONE
TZID:Europe/Berlin
X-LIC-LOCATION:Europe/Berlin
BEGIN:DAYLIGHT
TZOFFSETFROM:+0100
TZOFFSETTO:+0200
TZNAME:CEST
DTSTART:19700329T020000
RRULE:FREQ=YEARLY;INTERVAL=1;BYDAY=-1SU;BYMONTH=3
END:DAYLIGHT
BEGIN:STANDARD
TZOFFSETFROM:+0200
TZOFFSETTO:+0100
TZNAME:CET
DTSTART:19701025T030000
RRULE:FREQ=YEARLY;INTERVAL=1;BYDAY=-1SU;BYMONTH=10
END:STANDARD
END:VTIMEZONE
BEGIN:VEVENT
DTSTAMP:20260424T052649
DTSTART;TZID=Europe/Berlin:20260325T194500
DTEND;TZID=Europe/Berlin:20260325T210000
UID:261C290NH2-20260325T194500@KVHS LKHARBURG
SUMMARY:Vinyasa Yoga (261C290NH2) 
LOCATION:Courage-Haus am See; Mehrzweckraum, Ernst-Moritz-Arndt-Str. 14, 21629 Neu Wulmstorf
END:VEVENT
BEGIN:VEVENT
DTSTAMP:20260424T052649
DTSTART;TZID=Europe/Berlin:20260401T194500
DTEND;TZID=Europe/Berlin:20260401T210000
UID:261C290NH2-20260401T194500@KVHS LKHARBURG
SUMMARY:Vinyasa Yoga (261C290NH2) 
LOCATION:Courage-Haus am See; Mehrzweckraum, Ernst-Moritz-Arndt-Str. 14, 21629 Neu Wulmstorf
END:VEVENT
BEGIN:VEVENT
DTSTAMP:20260424T052649
DTSTART;TZID=Europe/Berlin:20260408T194500
DTEND;TZID=Europe/Berlin:20260408T210000
UID:261C290NH2-20260408T194500@KVHS LKHARBURG
SUMMARY:Vinyasa Yoga (261C290NH2) 
LOCATION:Courage-Haus am See; Mehrzweckraum, Ernst-Moritz-Arndt-Str. 14, 21629 Neu Wulmstorf
END:VEVENT
BEGIN:VEVENT
DTSTAMP:20260424T052649
DTSTART;TZID=Europe/Berlin:20260415T194500
DTEND;TZID=Europe/Berlin:20260415T210000
UID:261C290NH2-20260415T194500@KVHS LKHARBURG
SUMMARY:Vinyasa Yoga (261C290NH2) 
LOCATION:Courage-Haus am See; Mehrzweckraum, Ernst-Moritz-Arndt-Str. 14, 21629 Neu Wulmstorf
END:VEVENT
BEGIN:VEVENT
DTSTAMP:20260424T052649
DTSTART;TZID=Europe/Berlin:20260429T194500
DTEND;TZID=Europe/Berlin:20260429T210000
UID:261C290NH2-20260429T194500@KVHS LKHARBURG
SUMMARY:Vinyasa Yoga (261C290NH2) 
LOCATION:Courage-Haus am See; Mehrzweckraum, Ernst-Moritz-Arndt-Str. 14, 21629 Neu Wulmstorf
END:VEVENT
BEGIN:VEVENT
DTSTAMP:20260424T052649
DTSTART;TZID=Europe/Berlin:20260513T194500
DTEND;TZID=Europe/Berlin:20260513T210000
UID:261C290NH2-20260513T194500@KVHS LKHARBURG
SUMMARY:Vinyasa Yoga (261C290NH2) 
LOCATION:Courage-Haus am See; Mehrzweckraum, Ernst-Moritz-Arndt-Str. 14, 21629 Neu Wulmstorf
END:VEVENT
END:VCALENDAR