BEGIN:VCALENDAR
VERSION:2.0
PRODID:https://www.kufer.de/kuferweb / DE
METHOD:PUBLISH
CALSCALE:GREGORIAN
X-WR-TIMEZONE:Europe/Berlin
BEGIN:VTIMEZONE
TZID:Europe/Berlin
X-LIC-LOCATION:Europe/Berlin
BEGIN:DAYLIGHT
TZOFFSETFROM:+0100
TZOFFSETTO:+0200
TZNAME:CEST
DTSTART:19700329T020000
RRULE:FREQ=YEARLY;INTERVAL=1;BYDAY=-1SU;BYMONTH=3
END:DAYLIGHT
BEGIN:STANDARD
TZOFFSETFROM:+0200
TZOFFSETTO:+0100
TZNAME:CET
DTSTART:19701025T030000
RRULE:FREQ=YEARLY;INTERVAL=1;BYDAY=-1SU;BYMONTH=10
END:STANDARD
END:VTIMEZONE
BEGIN:VEVENT
DTSTAMP:20260420T111522
DTSTART;TZID=Europe/Berlin:20260409T143000
DTEND;TZID=Europe/Berlin:20260409T160000
UID:261E113BU2-20260409T143000@KVHS LKHARBURG
SUMMARY:Englisch Grundstufe A2 Stufe 1 Great! A2, 2nd edition, ab Lektion 1 (261E113BU2) 
LOCATION:Kabenhof; Seminarraum 5, Lindenstraße 10, 21244 Buchholz
END:VEVENT
BEGIN:VEVENT
DTSTAMP:20260420T111522
DTSTART;TZID=Europe/Berlin:20260416T143000
DTEND;TZID=Europe/Berlin:20260416T160000
UID:261E113BU2-20260416T143000@KVHS LKHARBURG
SUMMARY:Englisch Grundstufe A2 Stufe 1 Great! A2, 2nd edition, ab Lektion 1 (261E113BU2) 
LOCATION:Kabenhof; Seminarraum 5, Lindenstraße 10, 21244 Buchholz
END:VEVENT
BEGIN:VEVENT
DTSTAMP:20260420T111522
DTSTART;TZID=Europe/Berlin:20260423T143000
DTEND;TZID=Europe/Berlin:20260423T160000
UID:261E113BU2-20260423T143000@KVHS LKHARBURG
SUMMARY:Englisch Grundstufe A2 Stufe 1 Great! A2, 2nd edition, ab Lektion 1 (261E113BU2) 
LOCATION:Kabenhof; Seminarraum 5, Lindenstraße 10, 21244 Buchholz
END:VEVENT
BEGIN:VEVENT
DTSTAMP:20260420T111522
DTSTART;TZID=Europe/Berlin:20260430T143000
DTEND;TZID=Europe/Berlin:20260430T160000
UID:261E113BU2-20260430T143000@KVHS LKHARBURG
SUMMARY:Englisch Grundstufe A2 Stufe 1 Great! A2, 2nd edition, ab Lektion 1 (261E113BU2) 
LOCATION:Kabenhof; Seminarraum 5, Lindenstraße 10, 21244 Buchholz
END:VEVENT
BEGIN:VEVENT
DTSTAMP:20260420T111522
DTSTART;TZID=Europe/Berlin:20260521T143000
DTEND;TZID=Europe/Berlin:20260521T160000
UID:261E113BU2-20260521T143000@KVHS LKHARBURG
SUMMARY:Englisch Grundstufe A2 Stufe 1 Great! A2, 2nd edition, ab Lektion 1 (261E113BU2) 
LOCATION:Kabenhof; Seminarraum 5, Lindenstraße 10, 21244 Buchholz
END:VEVENT
BEGIN:VEVENT
DTSTAMP:20260420T111522
DTSTART;TZID=Europe/Berlin:20260528T143000
DTEND;TZID=Europe/Berlin:20260528T160000
UID:261E113BU2-20260528T143000@KVHS LKHARBURG
SUMMARY:Englisch Grundstufe A2 Stufe 1 Great! A2, 2nd edition, ab Lektion 1 (261E113BU2) 
LOCATION:Kabenhof; Seminarraum 5, Lindenstraße 10, 21244 Buchholz
END:VEVENT
BEGIN:VEVENT
DTSTAMP:20260420T111522
DTSTART;TZID=Europe/Berlin:20260604T143000
DTEND;TZID=Europe/Berlin:20260604T160000
UID:261E113BU2-20260604T143000@KVHS LKHARBURG
SUMMARY:Englisch Grundstufe A2 Stufe 1 Great! A2, 2nd edition, ab Lektion 1 (261E113BU2) 
LOCATION:Kabenhof; Seminarraum 5, Lindenstraße 10, 21244 Buchholz
END:VEVENT
BEGIN:VEVENT
DTSTAMP:20260420T111522
DTSTART;TZID=Europe/Berlin:20260611T143000
DTEND;TZID=Europe/Berlin:20260611T160000
UID:261E113BU2-20260611T143000@KVHS LKHARBURG
SUMMARY:Englisch Grundstufe A2 Stufe 1 Great! A2, 2nd edition, ab Lektion 1 (261E113BU2) 
LOCATION:Kabenhof; Seminarraum 5, Lindenstraße 10, 21244 Buchholz
END:VEVENT
BEGIN:VEVENT
DTSTAMP:20260420T111522
DTSTART;TZID=Europe/Berlin:20260618T143000
DTEND;TZID=Europe/Berlin:20260618T160000
UID:261E113BU2-20260618T143000@KVHS LKHARBURG
SUMMARY:Englisch Grundstufe A2 Stufe 1 Great! A2, 2nd edition, ab Lektion 1 (261E113BU2) 
LOCATION:Kabenhof; Seminarraum 5, Lindenstraße 10, 21244 Buchholz
END:VEVENT
END:VCALENDAR