BEGIN:VCALENDAR
VERSION:2.0
PRODID:https://www.kufer.de/kuferweb / DE
METHOD:PUBLISH
CALSCALE:GREGORIAN
X-WR-TIMEZONE:Europe/Berlin
BEGIN:VTIMEZONE
TZID:Europe/Berlin
X-LIC-LOCATION:Europe/Berlin
BEGIN:DAYLIGHT
TZOFFSETFROM:+0100
TZOFFSETTO:+0200
TZNAME:CEST
DTSTART:19700329T020000
RRULE:FREQ=YEARLY;INTERVAL=1;BYDAY=-1SU;BYMONTH=3
END:DAYLIGHT
BEGIN:STANDARD
TZOFFSETFROM:+0200
TZOFFSETTO:+0100
TZNAME:CET
DTSTART:19701025T030000
RRULE:FREQ=YEARLY;INTERVAL=1;BYDAY=-1SU;BYMONTH=10
END:STANDARD
END:VTIMEZONE
BEGIN:VEVENT
DTSTAMP:20260425T214653
DTSTART;TZID=Europe/Berlin:20260210T093000
DTEND;TZID=Europe/Berlin:20260210T113000
UID:261F321WI-20260210T093000@KVHS LKHARBURG
SUMMARY:Aquarellmalerei (261F321WI) 
LOCATION:KVHS Haus Wallstraße 1; Kunstraum, Wallstraße 1, 21423 Winsen
END:VEVENT
BEGIN:VEVENT
DTSTAMP:20260425T214653
DTSTART;TZID=Europe/Berlin:20260217T093000
DTEND;TZID=Europe/Berlin:20260217T113000
UID:261F321WI-20260217T093000@KVHS LKHARBURG
SUMMARY:Aquarellmalerei (261F321WI) 
LOCATION:KVHS Haus Wallstraße 1; Kunstraum, Wallstraße 1, 21423 Winsen
END:VEVENT
BEGIN:VEVENT
DTSTAMP:20260425T214653
DTSTART;TZID=Europe/Berlin:20260224T093000
DTEND;TZID=Europe/Berlin:20260224T113000
UID:261F321WI-20260224T093000@KVHS LKHARBURG
SUMMARY:Aquarellmalerei (261F321WI) 
LOCATION:KVHS Haus Wallstraße 1; Kunstraum, Wallstraße 1, 21423 Winsen
END:VEVENT
BEGIN:VEVENT
DTSTAMP:20260425T214653
DTSTART;TZID=Europe/Berlin:20260303T093000
DTEND;TZID=Europe/Berlin:20260303T113000
UID:261F321WI-20260303T093000@KVHS LKHARBURG
SUMMARY:Aquarellmalerei (261F321WI) 
LOCATION:KVHS Haus Wallstraße 1; Kunstraum, Wallstraße 1, 21423 Winsen
END:VEVENT
BEGIN:VEVENT
DTSTAMP:20260425T214653
DTSTART;TZID=Europe/Berlin:20260310T093000
DTEND;TZID=Europe/Berlin:20260310T113000
UID:261F321WI-20260310T093000@KVHS LKHARBURG
SUMMARY:Aquarellmalerei (261F321WI) 
LOCATION:KVHS Haus Wallstraße 1; Kunstraum, Wallstraße 1, 21423 Winsen
END:VEVENT
BEGIN:VEVENT
DTSTAMP:20260425T214653
DTSTART;TZID=Europe/Berlin:20260317T093000
DTEND;TZID=Europe/Berlin:20260317T113000
UID:261F321WI-20260317T093000@KVHS LKHARBURG
SUMMARY:Aquarellmalerei (261F321WI) 
LOCATION:KVHS Haus Wallstraße 1; Kunstraum, Wallstraße 1, 21423 Winsen
END:VEVENT
BEGIN:VEVENT
DTSTAMP:20260425T214653
DTSTART;TZID=Europe/Berlin:20260414T093000
DTEND;TZID=Europe/Berlin:20260414T113000
UID:261F321WI-20260414T093000@KVHS LKHARBURG
SUMMARY:Aquarellmalerei (261F321WI) 
LOCATION:KVHS Haus Wallstraße 1; Kunstraum, Wallstraße 1, 21423 Winsen
END:VEVENT
BEGIN:VEVENT
DTSTAMP:20260425T214653
DTSTART;TZID=Europe/Berlin:20260421T093000
DTEND;TZID=Europe/Berlin:20260421T113000
UID:261F321WI-20260421T093000@KVHS LKHARBURG
SUMMARY:Aquarellmalerei (261F321WI) 
LOCATION:KVHS Haus Wallstraße 1; Kunstraum, Wallstraße 1, 21423 Winsen
END:VEVENT
BEGIN:VEVENT
DTSTAMP:20260425T214653
DTSTART;TZID=Europe/Berlin:20260428T093000
DTEND;TZID=Europe/Berlin:20260428T113000
UID:261F321WI-20260428T093000@KVHS LKHARBURG
SUMMARY:Aquarellmalerei (261F321WI) 
LOCATION:KVHS Haus Wallstraße 1; Kunstraum, Wallstraße 1, 21423 Winsen
END:VEVENT
BEGIN:VEVENT
DTSTAMP:20260425T214653
DTSTART;TZID=Europe/Berlin:20260505T093000
DTEND;TZID=Europe/Berlin:20260505T113000
UID:261F321WI-20260505T093000@KVHS LKHARBURG
SUMMARY:Aquarellmalerei (261F321WI) 
LOCATION:KVHS Haus Wallstraße 1; Kunstraum, Wallstraße 1, 21423 Winsen
END:VEVENT
BEGIN:VEVENT
DTSTAMP:20260425T214653
DTSTART;TZID=Europe/Berlin:20260512T093000
DTEND;TZID=Europe/Berlin:20260512T113000
UID:261F321WI-20260512T093000@KVHS LKHARBURG
SUMMARY:Aquarellmalerei (261F321WI) 
LOCATION:KVHS Haus Wallstraße 1; Kunstraum, Wallstraße 1, 21423 Winsen
END:VEVENT
BEGIN:VEVENT
DTSTAMP:20260425T214653
DTSTART;TZID=Europe/Berlin:20260519T093000
DTEND;TZID=Europe/Berlin:20260519T113000
UID:261F321WI-20260519T093000@KVHS LKHARBURG
SUMMARY:Aquarellmalerei (261F321WI) 
LOCATION:KVHS Haus Wallstraße 1; Kunstraum, Wallstraße 1, 21423 Winsen
END:VEVENT
END:VCALENDAR